BEGIN:VCALENDAR
VERSION:2.0
PRODID:-//eventon.com NONSGML v1.0//EN
CALSCALE:GREGORIAN
METHOD:PUBLISH
BEGIN:VEVENT
UID:69e74759069ce
DTSTAMP:20260421T094601Z
DTSTART:20260704T160000Z
DTEND:20260704T200000Z
LOCATION:
SUMMARY:70s & 80s Dancenight
DESCRIPTION:Am 04. Juli drehen wir die Zeit zurück - zurück in die 70s & 
 80s Dancenight! Erlebe im Marienhof eine Dancenight mit den angesagtesten H
 its zum Tanzen der 70er und 80er Jahre. Außerdem gibt es tolle Partytänze
  zum Mitmachen von unseren Tanzlehrern. Selbstverständlich werdet ihr kuli
 narisch bestens vom Team des[..]\nhttps://www.antanzen.at/events/70s-80s-da
 ncenight/
URL:https://www.antanzen.at/events/70s-80s-dancenight/
END:VEVENT
END:VCALENDAR