BEGIN:VCALENDAR
VERSION:2.0
PRODID:-//eventon.com NONSGML v1.0//EN
CALSCALE:GREGORIAN
METHOD:PUBLISH
BEGIN:VEVENT
UID:69e57553c81da
DTSTAMP:20260420T003739Z
DTSTART:20260517T080000Z
DTEND:20260517T110000Z
LOCATION:
SUMMARY:Tanz-Frühstück
DESCRIPTION:Drei Stunden tanzen und dabei ein köstliches Frühstücksbuffe
 t genießen – bei unserem Tanz-Frühstück ist das möglich! Wir verwande
 ln die Tanzschule in eine Mischung aus Frühstückslandschaft & Tanzvergnü
 gen. Es läuft die angesagteste Tanzmusik\,  während ihr euch pausenlos st
 ärken könnt. Beim Eintritt zum Tanz-Frühstück sind das Frühstücksbuff
 et\,  Heißgetränke\,  Prosecco und Fruchtsäfte inkludiert.[..]\nhttps://
 www.antanzen.at/events/tanz-fruehstueck/
URL:https://www.antanzen.at/events/tanz-fruehstueck/
END:VEVENT
END:VCALENDAR