BEGIN:VCALENDAR
VERSION:2.0
PRODID:-//eventon.com NONSGML v1.0//EN
CALSCALE:GREGORIAN
METHOD:PUBLISH
BEGIN:VEVENT
UID:69e60540a5622
DTSTAMP:20260420T105144Z
DTSTART:20250426T080000Z
DTEND:20250426T200000Z
LOCATION:
SUMMARY:Tag der offenen Tür | Klosterneuburger Frühlingserwachen
DESCRIPTION:Besuche unseren Tag der offenen Tür im Rahmen des Klosterneubu
 rger Frühlingserwachen und tanze kostenlos durch den Tag! Schnapp dir dein
 e Freunde und Verwandte und zeige ihnen\,  wo Du gerne tanzt oder zukünfti
 g gerne tanzen wirst. Wir haben am Samstag von 10:00 bis 22:00 Uhr offen un
 d spielen den ganzen Tag[..]\nhttps://www.antanzen.at/events/tag-der-offene
 n-tuer/
URL:https://www.antanzen.at/events/tag-der-offenen-tuer/
END:VEVENT
END:VCALENDAR