BEGIN:VCALENDAR
VERSION:2.0
PRODID:-//eventon.com NONSGML v1.0//EN
CALSCALE:GREGORIAN
METHOD:PUBLISH
BEGIN:VEVENT
UID:69e5744a7444b
DTSTAMP:20260420T003314Z
DTSTART:20260509T170000Z
DTEND:20260509T200000Z
LOCATION:
SUMMARY:La Notte Italiana
DESCRIPTION:Unser beliebter italienischer Tanzabend geht wieder los! Passen
 d zum Motto gibt es italienische Hits zum Tanzen und Genießen. Außerdem m
 achen wir italienisches Mitmachprogramm für Dich. Termin: Samstag\,  09.05
 .2026\,  19:00 – 22:00 Uhr Eintritt: € 7\, 50 pro Person\nhttps://www.a
 ntanzen.at/events/la-notte-italiana/
URL:https://www.antanzen.at/events/la-notte-italiana/
END:VEVENT
END:VCALENDAR