BEGIN:VCALENDAR
VERSION:2.0
PRODID:-//eventon.com NONSGML v1.0//EN
CALSCALE:GREGORIAN
METHOD:PUBLISH
BEGIN:VEVENT
UID:69e746a5d2f5e
DTSTAMP:20260421T094301Z
DTSTART:20260808T160000Z
DTEND:20260808T200000Z
LOCATION:
SUMMARY:Swing-Dancenight
DESCRIPTION:Ein Tanzabend für alle Swing-Tänzer! Wir bringen die angesagt
 esten Swing-Tänze auf die Tanzfläche: Boogie\,  Rock'n'Roll\,  Lindy Hop\
 ,  West Coast Swing und mehr werden Dich und andere Tänzerinnen und Tänze
 r begeistern. Außerdem gibt es kleine Workshops zum Erlernen von spannende
 n Swing-Elementen. Termin: Samstag\,  08.08.2026\,  18:00 – 22:00 Uhr Ort
 : Café am Campus:[..]\nhttps://www.antanzen.at/events/swing-dancenight/
URL:https://www.antanzen.at/events/swing-dancenight/
END:VEVENT
END:VCALENDAR