BEGIN:VCALENDAR
VERSION:2.0
PRODID:-//eventon.com NONSGML v1.0//EN
CALSCALE:GREGORIAN
METHOD:PUBLISH
BEGIN:VEVENT
UID:69e746a607080
DTSTAMP:20260421T094302Z
DTSTART:20260905T160000Z
DTEND:20260905T200000Z
LOCATION:
SUMMARY:Fête Blanche
DESCRIPTION:Une soirée dansante française! Unsere erfolgreiche Fête Blan
 che ist dieses Jahr ebenfalls das Abschlussfest unserer beliebten Sommer-Ta
 nzabende. Genieße Urlaubsfeeling\,  Sommerwetter und französische Klänge
  im Strombad Kritzendorf. Buntes Mitmachprogramm gibt es natürlich ebenfal
 ls. Passende Snacks und Drinks von der Donau Riviera runden das Tanzpaket p
 erfekt ab. Termin: Samstag\,  05.09.2026\,  18:00 –[..]\nhttps://www.anta
 nzen.at/events/fete-blanche/
URL:https://www.antanzen.at/events/fete-blanche/
END:VEVENT
END:VCALENDAR